0.250000000000
0
0
-0.250000000000
198310.125000000000
413729.875000000000
